BEGIN:VCALENDAR
VERSION:2.0
PRODID:icalendar-ruby
CALSCALE:GREGORIAN
METHOD:PUBLISH
BEGIN:VEVENT
DTSTAMP:20260425T005710Z
UID:14-278977@house.tithelysetup5.com
DTSTART:20261028T220000Z
DTEND:20261029T000000Z
CLASS:PUBLIC
CREATED:20260424T191738
DESCRIPTION:Join us every Wednesday night!\nWe eat together\, worship\, pra
 y\, and study God's word. \n6-8pm\n\n101 Fitness Dr\, Fuquay-Varina\, NC 
 27526\n\n
LAST-MODIFIED:20260424T191738
LOCATION:201 Meadow Dr\, Fuquay-Varina\, NC 27526
SUMMARY:Wednesday Night Gathering
URL;VALUE=URI:https://houseandharvest.org/events/wednesday-night-gathering/
 2026-10-28
ATTACH;FILENAME=e78799f9-0ec8-474f-b413-e27862e4251d.jpeg;FMTTYPE=image/jpe
 g:https://dq5pwpg1q8ru0.cloudfront.net/2026/03/12/16/17/04/c184ea40-7a27-4
 b15-b6bc-48e85e99cc1a/e78799f9-0ec8-474f-b413-e27862e4251d.jpeg
END:VEVENT
END:VCALENDAR
